BEGIN:VCALENDAR
VERSION:2.0
PRODID:-//Wickhambrook Parish Council//Meeting Calendar//EN
CALSCALE:GREGORIAN
METHOD:PUBLISH
BEGIN:VEVENT
UID:71338-20260430@wickhambrook-pc.gov.uk
DTSTAMP:20260424T090831Z
DTSTART;VALUE=DATE:20260430
DTEND;VALUE=DATE:20260501
SUMMARY:Full Council Meeting &#8211\\; Thursday 30th April 2026
DESCRIPTION:Full Council Meeting\nView details: https://wickhambrook-pc.gov.uk/meetings/full-council-meeting/
URL:https://wickhambrook-pc.gov.uk/meetings/full-council-meeting/
END:VEVENT
END:VCALENDAR
