BEGIN:VCALENDAR
VERSION:2.0
PRODID:-//Wickhambrook Parish Council//Meeting Calendar//EN
CALSCALE:GREGORIAN
METHOD:PUBLISH
BEGIN:VEVENT
UID:71222-20260219@wickhambrook-pc.gov.uk
DTSTAMP:20260421T083043Z
DTSTART;VALUE=DATE:20260219
DTEND;VALUE=DATE:20260220
SUMMARY:Full Council Meeting &#8211\\; Thursday 19th February
DESCRIPTION:Full Council Meeting\nView details: https://wickhambrook-pc.gov.uk/meetings/full-council-meeting-thursday-19th-february/
URL:https://wickhambrook-pc.gov.uk/meetings/full-council-meeting-thursday-19th-february/
END:VEVENT
END:VCALENDAR
