BEGIN:VCALENDAR
VERSION:2.0
PRODID:-//Wickhambrook Parish Council//Meeting Calendar//EN
CALSCALE:GREGORIAN
METHOD:PUBLISH
BEGIN:VEVENT
UID:70614-20220526@wickhambrook-pc.gov.uk
DTSTAMP:20260421T100644Z
DTSTART;VALUE=DATE:20220526
DTEND;VALUE=DATE:20220527
SUMMARY:Annual Parish Meeting &#8211\\; 26 May 2022
DESCRIPTION:Annual Parish Meeting\nView details: https://wickhambrook-pc.gov.uk/meetings/annual-parish-meeting-26-may-2022/
URL:https://wickhambrook-pc.gov.uk/meetings/annual-parish-meeting-26-may-2022/
END:VEVENT
END:VCALENDAR
