BEGIN:VCALENDAR
VERSION:2.0
PRODID:-//Wickhambrook Parish Council//Meeting Calendar//EN
CALSCALE:GREGORIAN
METHOD:PUBLISH
BEGIN:VEVENT
UID:70579-20230518@wickhambrook-pc.gov.uk
DTSTAMP:20260421T100217Z
DTSTART;VALUE=DATE:20230518
DTEND;VALUE=DATE:20230519
SUMMARY:Annual Parish Meeting &#8211\\; 18 May 2023
DESCRIPTION:Annual Parish Meeting\nView details: https://wickhambrook-pc.gov.uk/meetings/annual-parish-meeting-18-may-2023/
URL:https://wickhambrook-pc.gov.uk/meetings/annual-parish-meeting-18-may-2023/
END:VEVENT
END:VCALENDAR
