BEGIN:VCALENDAR
VERSION:2.0
PRODID:-//Wickhambrook Parish Council//Meeting Calendar//EN
CALSCALE:GREGORIAN
METHOD:PUBLISH
BEGIN:VEVENT
UID:70507-20250529@wickhambrook-pc.gov.uk
DTSTAMP:20260421T095908Z
DTSTART;VALUE=DATE:20250529
DTEND;VALUE=DATE:20250530
SUMMARY:Annual Meeting of the Parish Council &#8211\\; 29 May 2025
DESCRIPTION:Annual Parish Meeting\nView details: https://wickhambrook-pc.gov.uk/meetings/annual-parish-meeting-29-may-2025/
URL:https://wickhambrook-pc.gov.uk/meetings/annual-parish-meeting-29-may-2025/
END:VEVENT
END:VCALENDAR
